BEGIN:VCALENDAR
VERSION:2.0
PRODID:-//ChamberMaster//Event Calendar 2.0//EN
METHOD:PUBLISH
X-PUBLISHED-TTL:P3D
REFRESH-INTERVAL:P3D
CALSCALE:GREGORIAN
BEGIN:VEVENT
DTSTART:20230407T150000Z
DTEND:20230410T080000Z
X-MICROSOFT-CDO-ALLDAYEVENT:FALSE
SUMMARY:Easter at Discovery Depot
DESCRIPTION:Friday\, April 7th: 10:00am-3:00pm\n\nSaturday\, April 8th:\n\nToddler Egg Hunt- 9:30am-10:30am\n\nEgg Hunt Extravaganza- 11:15am-12:00pm\n\nRegular Admission- 12:00pm-3:00pm\n\nMonday\, April 10th: 10:00am-3:00pm
X-ALT-DESC;FMTTYPE=text/html:Friday\, April 7th: 10:00am-3:00pm<br />\nSaturday\, April 8th:<br />\nToddler Egg Hunt- 9:30am-10:30am<br />\nEgg Hunt Extravaganza- 11:15am-12:00pm<br />\nRegular Admission- 12:00pm-3:00pm<br />\nMonday\, April 10th: 10:00am-3:00pm
LOCATION:Discovery Depot 128 S Chambers St Galesburg\, IL\, 61401
UID:e.2125.12793
SEQUENCE:3
DTSTAMP:20260423T221437Z
URL:https://business.macombareachamber.com/events/details/easter-at-discovery-depot-12793
END:VEVENT

END:VCALENDAR
