BEGIN:VCALENDAR
VERSION:2.0
PRODID:-//ChamberMaster//Event Calendar 2.0//EN
METHOD:PUBLISH
X-PUBLISHED-TTL:P3D
REFRESH-INTERVAL:P3D
CALSCALE:GREGORIAN
BEGIN:VEVENT
DTSTART:20230422T170000Z
DTEND:20230422T190000Z
X-MICROSOFT-CDO-ALLDAYEVENT:FALSE
SUMMARY:Earth Day - Volunteer Opportunity
DESCRIPTION:Earth Day Volunteer Event 2023\n\nHelp us make the Lakeview Nature Area even lovelier this spring!\n\nJoin us on Earth Day from 12:00 - 2:00 pm for a volunteer opportunity! We'll spend the morning removing invasive plants in the landscaping surrounding the Nature Center and in the Nature Area\, placing mulch\, and removing unwanted trash. We hope you'll join us for this outdoor opportunity where you can make a difference\, collect some volunteer hours\, and connect with nature!\n\nFee: FREE *Pre-registration is encouraged. Please register by April 21 to participate.*\n\nMax Enrollment: 25 Volunteers\n\nRegistration link : tinyurl.com/mpdregister\n\nNotes:\n\n- Please bring any gardening tools you like and gloves to protect your hands\n\n- Basic supplies will be provided\n\n- Water and restrooms will be provided\n\nRequirements:\n\n- 14 or older\n\n- 13 & under with adult supervision\n\n- Able to do light to heavy manual labor\n\n- COVID exposure free & symptom
X-ALT-DESC;FMTTYPE=text/html:Earth Day Volunteer Event 2023<br />\nHelp us make the Lakeview Nature Area even lovelier this spring!<br />\nJoin us on Earth Day from 12:00 - 2:00 pm for a volunteer opportunity! We&#39\;ll spend the morning removing invasive plants in the landscaping surrounding the Nature Center and in the Nature Area\, placing mulch\, and removing unwanted trash. We hope you&#39\;ll join us for this outdoor opportunity where you can make a difference\, collect some volunteer hours\, and connect with nature!<br />\nFee: FREE *Pre-registration is encouraged. Please register by April 21 to participate.*<br />\nMax Enrollment: 25 Volunteers<br />\nRegistration link : tinyurl.com/mpdregister<br />\nNotes:<br />\n- Please bring any gardening tools you like and gloves to protect your hands<br />\n- Basic supplies will be provided<br />\n- Water and restrooms will be provided<br />\nRequirements:<br />\n- 14 or older<br />\n- 13 &amp\; under with adult supervision<br />\n- Able to do light to heavy manual labor<br />\n- COVID exposure free &amp\; symptom&nbsp\;
LOCATION:Lakeview Nature Area & Center 10050 N 1500th Rd\, Macomb
UID:e.2125.12693
SEQUENCE:3
DTSTAMP:20260423T222300Z
URL:https://business.macombareachamber.com/events/details/earth-day-volunteer-opportunity-12693
END:VEVENT

END:VCALENDAR
