BEGIN:VCALENDAR
VERSION:2.0
PRODID:-//ChamberMaster//Event Calendar 2.0//EN
METHOD:PUBLISH
X-PUBLISHED-TTL:P3D
REFRESH-INTERVAL:P3D
CALSCALE:GREGORIAN
BEGIN:VEVENT
DTSTART:20231018T180000Z
DTEND:20231018T190000Z
X-MICROSOFT-CDO-ALLDAYEVENT:FALSE
SUMMARY:Drum Out Domestic Violence
DESCRIPTION:Get your drumsticks ready! We are happy to announce that Drum Out Domestic Violence will be held on Wednesday\, October 18 from 1 PM to 2 PM at Make Fit Happen in Macomb!\n\n  This is a fun and empowering domestic violence awareness event that is free and open to the public.\n\n  After a short presentation\, everyone will get to enjoy a free POUND class courtesy of Make Fit Happen. POUND is a full-body workout that combines drumsticks\, cardio and pilates-inspired movement set to exciting music. Think of it like dancing with drumsticks! The class will be taught by Greg Todd\, Fitness Instructor.\n\n  To learn more\, call Victim Services at 309-837-6622.\n\n  If you have witnessed or experienced abuse at any point in your life\, you are not alone. Call Victim Services' crisis hotline at 309-837-5555 to speak with a counselor or advocate. All services are free and confidential.
X-ALT-DESC;FMTTYPE=text/html:Get your drumsticks ready! We are happy to announce that Drum Out Domestic Violence will be held on Wednesday\, October 18 from 1 PM to 2 PM at Make Fit Happen in Macomb!<br />\n&#128516\; This is a fun and empowering domestic violence awareness event that is free and open to the public.<br />\n&#129345\; After a short presentation\, everyone will get to enjoy a free POUND class courtesy of Make Fit Happen. POUND is a full-body workout that combines drumsticks\, cardio and pilates-inspired movement set to exciting music. Think of it like dancing with drumsticks! The class will be taught by Greg Todd\, Fitness Instructor.<br />\n&#10145\; To learn more\, call Victim Services at 309-837-6622.<br />\n&#9742\; If you have witnessed or experienced abuse at any point in your life\, you are not alone. Call Victim Services&#39\; crisis hotline at 309-837-5555 to speak with a counselor or advocate. All services are free and confidential.
LOCATION:Make Fit Happen 1208 N. Lafayette St. Macomb\, Illinois
UID:e.2125.14061
SEQUENCE:3
DTSTAMP:20260422T122251Z
URL:https://business.macombareachamber.com/events/details/drum-out-domestic-violence-14061
END:VEVENT

END:VCALENDAR
