BEGIN:VCALENDAR
VERSION:2.0
PRODID:-//ChamberMaster//Event Calendar 2.0//EN
METHOD:PUBLISH
X-PUBLISHED-TTL:P3D
REFRESH-INTERVAL:P3D
CALSCALE:GREGORIAN
BEGIN:VEVENT
DTSTART;VALUE=DATE:20240724
DTEND;VALUE=DATE:20240725
TRANSP:TRANSPARENT
X-MICROSOFT-CDO-ALLDAYEVENT:TRUE
SUMMARY:Downtown Summer Concert Series
DESCRIPTION:Get ready to enjoy some local music this summer in Downtown Macomb! Check out the list of performers for this year's Downtown Summer Concert Series. Downtown Macomb is happy to announce that this year\, they are keeping the tunes going all summer long\, thanks to their partnership with the Western Illinois Museum which will be hosting them during afternoons when there is inclement weather. Plan to stop by Wednesdays at noon and enjoy music from these local musicians!
X-ALT-DESC;FMTTYPE=text/html:Get ready to enjoy some local music this summer in Downtown Macomb! Check out the list of performers for this year&#39\;s Downtown Summer Concert Series. Downtown Macomb is happy to announce that this year\, they are keeping the tunes going all summer long\, thanks to their partnership with the Western Illinois Museum which will be hosting them during afternoons when there is inclement weather. Plan to stop by Wednesdays at noon and enjoy music from these local musicians!
LOCATION:Chandler Park Gazebo Rain Location: Western Illinois Museum - 201 S. Lafayette St.
UID:e.2125.15023
SEQUENCE:3
DTSTAMP:20260423T010453Z
URL:https://business.macombareachamber.com/events/details/downtown-summer-concert-series-15023
END:VEVENT

END:VCALENDAR
