BEGIN:VCALENDAR
VERSION:2.0
PRODID:-//ChamberMaster//Event Calendar 2.0//EN
METHOD:PUBLISH
X-PUBLISHED-TTL:P3D
REFRESH-INTERVAL:P3D
CALSCALE:GREGORIAN
BEGIN:VEVENT
DTSTART:20230825T213000Z
DTEND:20230825T233000Z
X-MICROSOFT-CDO-ALLDAYEVENT:FALSE
SUMMARY:Downtown Block Party
DESCRIPTION:Whether you are a student at Western Illinois University or Spoon River College\, a resident of Macomb\, or a visitor from out of town YOU are invited to join us for the 2022 Downtown Block Party! Sponsored by the City of Macomb\, Macomb Area Chamber of Commerce\, Western Illinois University and Spoon River College.\n\n\n\nLive Music by ODD FELLOWS!\n\nFoam Party! Sponsored by Spoon River College\n\nLocal Celebrity Dunk Tank with Prizes!\n\n\n\nChick's Lip Eating Contest!\n\nFree Macomb T-shirts\n\nFree Sno-Cones!\n\nFree Balloon Animals\n\nLots of Giveaways!\n\nGames!\n\n\n\nMore details being added all the time!
X-ALT-DESC;FMTTYPE=text/html:Whether you are a student at Western Illinois University or Spoon River College\, a resident of Macomb\, or a visitor from out of town YOU are invited to join us for the 2022 Downtown Block Party! Sponsored by the City of Macomb\, Macomb Area Chamber of Commerce\, Western Illinois University and Spoon River College.<br />\n<br />\nLive Music by ODD FELLOWS!<br />\nFoam Party! Sponsored by Spoon River College<br />\nLocal Celebrity Dunk Tank with Prizes!<br />\n<br />\nChick&#39\;s Lip Eating Contest!<br />\nFree Macomb T-shirts<br />\nFree Sno-Cones!<br />\nFree Balloon Animals<br />\nLots of Giveaways!<br />\nGames!<br />\n<br />\nMore details being added all the time!<br />\n<br />\n&nbsp\;
LOCATION:Chandler Park Macomb\, IL
UID:e.2125.13702
SEQUENCE:3
DTSTAMP:20260421T081249Z
URL:https://business.macombareachamber.com/events/details/downtown-block-party-13702
END:VEVENT

END:VCALENDAR
