BEGIN:VCALENDAR
VERSION:2.0
PRODID:-//ChamberMaster//Event Calendar 2.0//EN
METHOD:PUBLISH
X-PUBLISHED-TTL:P3D
REFRESH-INTERVAL:P3D
CALSCALE:GREGORIAN
BEGIN:VEVENT
DTSTART:20230514T170000Z
DTEND:20230514T220000Z
X-MICROSOFT-CDO-ALLDAYEVENT:FALSE
SUMMARY:Donuts with Mom Paint Date
DESCRIPTION:Donuts with Mom Paint Date!\n\nMake a date to create together for Mother's Day \n\nWe will have a variety of complimentary donuts\, milk and juice to enjoy while you paint!\n\nMom's Studio Fee is on the house for Mother's Day!\n\nReservations are recommended\, walk-ins welcome as table space allows \n\nCall or message the studio with questions or to make a reservation!
X-ALT-DESC;FMTTYPE=text/html:Donuts with Mom Paint Date!<br />\nMake a date to create together for Mother&#39\;s Day&nbsp\;<br />\nWe will have a variety of complimentary donuts\, milk and juice to enjoy while you paint!<br />\nMom&#39\;s Studio Fee is on the house for Mother&#39\;s Day!<br />\nReservations are recommended\, walk-ins welcome as table space allows&nbsp\;<br />\nCall or message the studio with questions or to make a reservation!<br />\n&nbsp\;
LOCATION:The Crafty Coop - 206 N. Lafayette St.\, Macomb
UID:e.2125.13393
SEQUENCE:3
DTSTAMP:20260423T232624Z
URL:https://business.macombareachamber.com/events/details/donuts-with-mom-paint-date-13393
END:VEVENT

END:VCALENDAR
