BEGIN:VCALENDAR
VERSION:2.0
PRODID:-//ChamberMaster//Event Calendar 2.0//EN
METHOD:PUBLISH
X-PUBLISHED-TTL:P3D
REFRESH-INTERVAL:P3D
CALSCALE:GREGORIAN
BEGIN:VEVENT
DTSTART:20240914T180000Z
DTEND:20240915T030000Z
X-MICROSOFT-CDO-ALLDAYEVENT:FALSE
SUMMARY:Dollar Day at Ball Fore
DESCRIPTION:It's Dollar Day!      Enjoy mini golf\, batting cages\, and park golf all for just $1 each! Grab your crew and join us for an unforgettable time! Let the games begin!
X-ALT-DESC;FMTTYPE=text/html:It&rsquo\;s Dollar Day! &#9971\;&#65039\;&#9918\;&#65039\; Enjoy mini golf\, batting cages\, and park golf&mdash\;all for just $1 each! Grab your crew and join us for an unforgettable time! Let the games begin!
LOCATION:Ball Fore 9575 US Hwy 136 Macomb\, IL
UID:e.2125.15708
SEQUENCE:3
DTSTAMP:20260422T075249Z
URL:https://business.macombareachamber.com/events/details/dollar-day-at-ball-fore-15708
END:VEVENT

END:VCALENDAR
