BEGIN:VCALENDAR
VERSION:2.0
PRODID:-//ChamberMaster//Event Calendar 2.0//EN
METHOD:PUBLISH
X-PUBLISHED-TTL:P3D
REFRESH-INTERVAL:P3D
CALSCALE:GREGORIAN
BEGIN:VEVENT
DTSTART:20241026T180000Z
DTEND:20241026T200000Z
X-MICROSOFT-CDO-ALLDAYEVENT:FALSE
SUMMARY:Discovery Depot - Early Closing Time
DESCRIPTION:To prepare for Halloween Hoopla\, Discovery Depot will close early at 1:00 pm on Saturday\, October 26th.
X-ALT-DESC;FMTTYPE=text/html:To prepare for Halloween Hoopla\, Discovery Depot will close early at 1:00 pm on Saturday\, October 26th.&nbsp\;
LOCATION:Discovery Depot 128 S Chambers Street Galesburg\, IL 61401
UID:e.2125.16077
SEQUENCE:3
DTSTAMP:20260422T091336Z
URL:https://business.macombareachamber.com/events/details/discovery-depot-early-closing-time-16077
END:VEVENT

END:VCALENDAR
