BEGIN:VCALENDAR
VERSION:2.0
PRODID:-//ChamberMaster//Event Calendar 2.0//EN
METHOD:PUBLISH
X-PUBLISHED-TTL:P3D
REFRESH-INTERVAL:P3D
CALSCALE:GREGORIAN
BEGIN:VEVENT
DTSTART;VALUE=DATE:20231123
DTEND;VALUE=DATE:20231126
TRANSP:TRANSPARENT
X-MICROSOFT-CDO-ALLDAYEVENT:TRUE
SUMMARY:Discovery Depot Children's Museum 2023 Thanksgiving Holiday hours
DESCRIPTION:
X-ALT-DESC;FMTTYPE=text/html:
LOCATION:
UID:e.2125.14106
SEQUENCE:3
DTSTAMP:20260422T141444Z
URL:https://business.macombareachamber.com/events/details/discovery-depot-children-s-museum-2023-thanksgiving-holiday-hours-14106
END:VEVENT

END:VCALENDAR
