BEGIN:VCALENDAR
VERSION:2.0
PRODID:-//ChamberMaster//Event Calendar 2.0//EN
METHOD:PUBLISH
X-PUBLISHED-TTL:P3D
REFRESH-INTERVAL:P3D
CALSCALE:GREGORIAN
BEGIN:VEVENT
DTSTART:20241026T140000Z
DTEND:20241026T193000Z
X-MICROSOFT-CDO-ALLDAYEVENT:FALSE
SUMMARY:Discover Western
DESCRIPTION:What to Expect:\n\n- Give Col. Rock IV (Ray) belly rubs\n\n- Meet with academic advisors and support services\n\n- Enjoy lunch in one of our dining centers\n\n- Tour our campus and residence halls\n\n- Meet 1:1 with an admissions counselor\n\n- Pick up a free WIU T-shirt!\n\n\n\nQuestions?\n\nUndergraduate Admissions\n\nSherman Hall 115\n\n1 University Circle\n\nMacomb\, IL 61455
X-ALT-DESC;FMTTYPE=text/html:What to Expect:<br />\n- Give Col. Rock IV (Ray) belly rubs<br />\n- Meet with academic advisors and support services<br />\n- Enjoy lunch in one of our dining centers<br />\n- Tour our campus and residence halls<br />\n- Meet 1:1 with an admissions counselor<br />\n- Pick up a free WIU T-shirt!<br />\n<br />\nQuestions?<br />\nUndergraduate Admissions<br />\nSherman Hall 115<br />\n1 University Circle<br />\nMacomb\, IL 61455
LOCATION:Western Illinois University Macomb\, Illinois
UID:e.2125.16131
SEQUENCE:3
DTSTAMP:20260422T054231Z
URL:https://business.macombareachamber.com/events/details/discover-western-16131
END:VEVENT

END:VCALENDAR
