BEGIN:VCALENDAR
VERSION:2.0
PRODID:-//ChamberMaster//Event Calendar 2.0//EN
METHOD:PUBLISH
X-PUBLISHED-TTL:P3D
REFRESH-INTERVAL:P3D
CALSCALE:GREGORIAN
BEGIN:VEVENT
DTSTART:20241026T000000Z
DTEND:20241026T030000Z
X-MICROSOFT-CDO-ALLDAYEVENT:FALSE
SUMMARY:Delta Upsilon Annual Haunted Trail
DESCRIPTION:Delta Upsilon Annual Haunted Trail. All proceeds and donations from the event go towards the fraternity's international philanthropy Global Service Initiative (GSI)\, which is a program that is used to help raise money for\, and send fraternity members to Jamaica to build houses\, schools and churches for the children and families in need.
X-ALT-DESC;FMTTYPE=text/html:Delta Upsilon Annual Haunted Trail.&nbsp\;<span style="color: rgb(34\, 34\, 34)\; font-family: Arial\, Helvetica\, sans-serif\; font-size: small\;">All proceeds and donations from the event go towards the fraternity&#39\;s international philanthropy Global Service Initiative (GSI)\, which is a program that is used to help raise money for\, and send fraternity members to Jamaica to build houses\, schools and churches for the children and families in need.</span><span style="color: rgb(34\, 34\, 34)\; font-family: Arial\, Helvetica\, sans-serif\; font-size: small\;">&nbsp\;</span>
LOCATION:620 W Elting St. Macomb\, IL
UID:e.2125.16083
SEQUENCE:3
DTSTAMP:20260422T054310Z
URL:https://business.macombareachamber.com/events/details/delta-upsilon-annual-haunted-trail-16083
END:VEVENT

END:VCALENDAR
