BEGIN:VCALENDAR
VERSION:2.0
PRODID:-//ChamberMaster//Event Calendar 2.0//EN
METHOD:PUBLISH
X-PUBLISHED-TTL:P3D
REFRESH-INTERVAL:P3D
CALSCALE:GREGORIAN
BEGIN:VEVENT
DTSTART:20240420T190000Z
DTEND:20240420T220000Z
X-MICROSOFT-CDO-ALLDAYEVENT:FALSE
SUMMARY:Delt Guys Burgers and Fries
DESCRIPTION:Come check out 'Delt Guys Burgers and Fries' sponsored by Purple Wave Auction at the Delt House. Make sure to save room to Pie/Egg your favorite Delt and indulge in cookies courtesy of Purple Wave! Let's take Type 1 to Type None together.
X-ALT-DESC;FMTTYPE=text/html:Come check out &#39\;Delt Guys Burgers and Fries&#39\; sponsored by Purple Wave Auction at the Delt House. Make sure to save room to Pie/Egg your favorite Delt and indulge in cookies courtesy of Purple Wave! Let&#39\;s take Type 1 to Type None together.
LOCATION:602 W Murray St\, Macomb\, IL 61455
UID:e.2125.14816
SEQUENCE:3
DTSTAMP:20260423T103834Z
URL:https://business.macombareachamber.com/events/details/delt-guys-burgers-and-fries-14816
END:VEVENT

END:VCALENDAR
