BEGIN:VCALENDAR
VERSION:2.0
PRODID:-//ChamberMaster//Event Calendar 2.0//EN
METHOD:PUBLISH
X-PUBLISHED-TTL:P3D
REFRESH-INTERVAL:P3D
CALSCALE:GREGORIAN
BEGIN:VEVENT
DTSTART:20250412T170000Z
DTEND:20250412T200000Z
X-MICROSOFT-CDO-ALLDAYEVENT:FALSE
SUMMARY:Delt Dogs 2025
DESCRIPTION:Delt Dogs 2025 is a fundraiser hosted by Delta Tau Delta for Breakthrough T1D. Come enjoy hot dogs on the grill and dogs from the local shelter.
X-ALT-DESC;FMTTYPE=text/html:Delt Dogs 2025 is a fundraiser hosted by Delta Tau Delta for Breakthrough T1D. Come enjoy hot dogs on the grill and dogs from the local shelter.&nbsp\;
LOCATION:602 W Murray Street Macomb\, IL
UID:e.2125.18834
SEQUENCE:3
DTSTAMP:20260420T113230Z
URL:https://business.macombareachamber.com/events/details/delt-dogs-2025-18834
END:VEVENT

END:VCALENDAR
