BEGIN:VCALENDAR
VERSION:2.0
PRODID:-//ChamberMaster//Event Calendar 2.0//EN
METHOD:PUBLISH
X-PUBLISHED-TTL:P3D
REFRESH-INTERVAL:P3D
CALSCALE:GREGORIAN
BEGIN:VEVENT
DTSTART;VALUE=DATE:20230408
DTEND;VALUE=DATE:20230409
TRANSP:TRANSPARENT
X-MICROSOFT-CDO-ALLDAYEVENT:TRUE
SUMMARY:Day in Clay Workshops: Honey Bee Dish
DESCRIPTION:Join us in the studio this month as we create a honey bee dish to welcome the arrival of spring! In this workshop\, we'll use a honeycomb pattern to texture our dish and a golden bee decal to add a bit of sparkle to celebrate this important pollinator! Please make sure to wear clothes that can get dirty. Workshop fee includes clay\, glaze\, use of tools and brushes\, bisque and glaze kiln firing. Join us for the day as we get our hands in clay!\n\n*Day in Clay Workshops are open to all ages\, all skill levels\, and we request that young children be accompanied by an adult who is also enrolled. Social distancing and safe mask wearing is recommended.\n\nPre-registration is required. Please register by April 6 to participate in this workshop. To register call: 309-833-4562 or stop by the park office to register in person!
X-ALT-DESC;FMTTYPE=text/html:<div class="kvgmc6g5 cxmmr5t8 oygrvhab hcukyx3x c1et5uql" style="overflow-wrap: break-word\; margin: 0px\; font-family: &quot\;Segoe UI Historic&quot\;\, &quot\;Segoe UI&quot\;\, Helvetica\, Arial\, sans-serif\; color: rgb(5\, 5\, 5)\; font-size: 15px\; background-color: rgb(255\, 255\, 255)\;">Join us in the studio this month as we create a honey bee dish to welcome the arrival of spring! In this workshop\, we&rsquo\;ll use a honeycomb pattern to texture our dish and a golden bee decal to add a bit of sparkle to celebrate this important pollinator! Please make sure to wear clothes that can get dirty. Workshop fee includes clay\, glaze\, use of tools and brushes\, bisque and glaze kiln firing. Join us for the day as we get our hands in clay!<br />\n*Day in Clay Workshops are open to all ages\, all skill levels\, and we request that young children be accompanied by an adult who is also enrolled. Social distancing and safe mask wearing is recommended.<br />\nPre-registration is required. Please register by April 6 to participate in this workshop. To register call: 309-833-4562 or stop by the park office to register in person!</div>\n
LOCATION:1406 N Randolph Street\, Macomb
UID:e.2125.12594
SEQUENCE:3
DTSTAMP:20260423T233040Z
URL:https://business.macombareachamber.com/events/details/day-in-clay-workshops-honey-bee-dish-12594
END:VEVENT

END:VCALENDAR
