BEGIN:VCALENDAR
VERSION:2.0
PRODID:-//ChamberMaster//Event Calendar 2.0//EN
METHOD:PUBLISH
X-PUBLISHED-TTL:P3D
REFRESH-INTERVAL:P3D
CALSCALE:GREGORIAN
BEGIN:VEVENT
DTSTART:20220723T190000Z
DTEND:20220723T220000Z
X-MICROSOFT-CDO-ALLDAYEVENT:FALSE
SUMMARY:Dakota Horvath & Friends Swing the Rat Pack
DESCRIPTION:Dakota Horvath\n\n& Friends Swing the Rat Pack\n\nhttps://barbbaileyentertainment.com/artists/dakota/\n\nDakota Horvath & Friends Swing the Rat Pack will be LIVE at The Legacy Theater July 23 @ 2pm!\n\n\n\nDakota Horvath\, singer-songwriter\, is based in Chicago and  is often compared to Michael Buble and Frank Sinatra.\n\n\n\nDakota's music is bedded in Jazz with grooves in Latin\, Pop\, Funk\, Soul & R&B.\n\n\n\nBest known nationally for singing at Brad Pitt and Jennifer Aniston's wedding.\n\n\n\n \n\n\n\nRick Kogan\, Chicago Tribune columnist/WGN Radio host\, said in a recent interview: \n\n\n\n"There is no better entertainer in Chicago than Dakota Horvath."\n\n\n\nWhen he was 8\, Frank Sinatra invited Dakota back stage\, handed him his handkerchief from his vest pocket & said\, "you've got " it" kid\," & The National Enquirer ran the story the next day. Dakota is very proud of his endorsement by Frank Sinatra.
X-ALT-DESC;FMTTYPE=text/html:<p class="font_8" style="margin: 0px\; padding: 0px\; border: 0px\; outline: 0px\; vertical-align: baseline\; background: transparent\; pointer-events: auto\; font-size: 17px\; line-height: 1.5em\; color: rgb(0\, 0\, 0)\; text-align: justify\;"><br />\nDakota Horvath<br />\n&amp\; Friends Swing the Rat Pack<br />\nhttps://barbbaileyentertainment.com/artists/dakota/<br />\nDakota Horvath &amp\; Friends Swing the Rat Pack will be LIVE at The Legacy Theater July 23 @ 2pm!<br />\n<br />\nDakota Horvath\, singer-songwriter\, is based in Chicago and&nbsp\; is often compared to Michael Buble and Frank Sinatra.<br />\n<br />\nDakota&rsquo\;s music is bedded in Jazz with grooves in Latin\, Pop\, Funk\, Soul &amp\; R&amp\;B.<br />\n<br />\nBest known nationally for singing at Brad Pitt and Jennifer Aniston&rsquo\;s wedding.<br />\n<br />\n&nbsp\;<br />\n<br />\nRick Kogan\, Chicago Tribune columnist/WGN Radio host\, said in a recent interview:&nbsp\;<br />\n<br />\n&ldquo\;There is no better entertainer in Chicago than Dakota Horvath.&rdquo\;<br />\n<br />\nWhen he was 8\, Frank Sinatra invited Dakota back stage\, handed him his handkerchief from his vest pocket &amp\; said\, &ldquo\;you&rsquo\;ve got &ldquo\; it&rdquo\; kid\,&rdquo\; &amp\; The National Enquirer ran the story the next day. Dakota is very proud of his endorsement by Frank Sinatra.</p>\n
LOCATION:1160 Buchanan St\, Carthage\, IL
UID:e.2125.7929
SEQUENCE:3
DTSTAMP:20260422T120541Z
URL:https://business.macombareachamber.com/events/details/dakota-horvath-friends-swing-the-rat-pack-7929
END:VEVENT

END:VCALENDAR
