BEGIN:VCALENDAR
VERSION:2.0
PRODID:-//ChamberMaster//Event Calendar 2.0//EN
METHOD:PUBLISH
X-PUBLISHED-TTL:P3D
REFRESH-INTERVAL:P3D
CALSCALE:GREGORIAN
BEGIN:VEVENT
DTSTART:20220712T180000Z
DTEND:20220714T200000Z
X-MICROSOFT-CDO-ALLDAYEVENT:FALSE
SUMMARY:Curtains Up Theater Camp
DESCRIPTION:Dive into costume and set design\, character development and adaptation\, and the intricacies of performance.\n\nAges 8 and up\n\n3 day camp\n\n$45 for Members/$50 for Non-Members\n\nYou may register in person or online at www.discoverydepot.org
X-ALT-DESC;FMTTYPE=text/html:Dive into costume and set design\, character development and adaptation\, and the intricacies of performance.<br />\nAges 8 and up<br />\n3 day camp<br />\n$45 for Members/$50 for Non-Members<br />\nYou may register in person or online at www.discoverydepot.org
LOCATION:Discovery Depot Children's Museum 128 S Chambers St Galesburg\, IL\, 61401
UID:e.2125.8440
SEQUENCE:3
DTSTAMP:20260422T120129Z
URL:https://business.macombareachamber.com/events/details/curtains-up-theater-camp-8440
END:VEVENT

END:VCALENDAR
