BEGIN:VCALENDAR
VERSION:2.0
PRODID:-//ChamberMaster//Event Calendar 2.0//EN
METHOD:PUBLISH
X-PUBLISHED-TTL:P3D
REFRESH-INTERVAL:P3D
CALSCALE:GREGORIAN
BEGIN:VEVENT
DTSTART:20220912T130000Z
DTEND:20220913T210000Z
X-MICROSOFT-CDO-ALLDAYEVENT:FALSE
SUMMARY:Curriculum Library Book Sale
DESCRIPTION:Curriculum Library Book Sale - Monday/Tuesday Sept 12 & 13. 8 am - 4 pm. Cash Only Sales.
X-ALT-DESC;FMTTYPE=text/html:Curriculum Library Book Sale - Monday/Tuesday Sept 12 &amp\; 13. 8 am - 4 pm. Cash Only Sales.&nbsp\;&nbsp\;
LOCATION:WIU Macomb Campus Curriculum Library - Horrabin Hall Room 80
UID:e.2125.10244
SEQUENCE:3
DTSTAMP:20260423T090227Z
URL:https://business.macombareachamber.com/events/details/curriculum-library-book-sale-10244
END:VEVENT

END:VCALENDAR
