BEGIN:VCALENDAR
VERSION:2.0
PRODID:-//ChamberMaster//Event Calendar 2.0//EN
METHOD:PUBLISH
X-PUBLISHED-TTL:P3D
REFRESH-INTERVAL:P3D
CALSCALE:GREGORIAN
BEGIN:VEVENT
DTSTART:20240709T180000Z
DTEND:20240709T200000Z
X-MICROSOFT-CDO-ALLDAYEVENT:FALSE
SUMMARY:Crazy Art Camp
DESCRIPTION:July 9\,10\,11th 1-3:00pm\n\nAges 7-12 years\n\n$50 members/$55 non-members
X-ALT-DESC;FMTTYPE=text/html:July 9\,10\,11th 1-3:00pm<br />\nAges 7-12 years<br />\n$50 members/$55 non-members
LOCATION:Discovery Depot Children's Museum 128 S Chambers St. Galesburg\, IL 61401
UID:e.2125.15051
SEQUENCE:3
DTSTAMP:20260423T012754Z
URL:https://business.macombareachamber.com/events/details/crazy-art-camp-15051
END:VEVENT

END:VCALENDAR
