BEGIN:VCALENDAR
VERSION:2.0
PRODID:-//ChamberMaster//Event Calendar 2.0//EN
METHOD:PUBLISH
X-PUBLISHED-TTL:P3D
REFRESH-INTERVAL:P3D
CALSCALE:GREGORIAN
BEGIN:VEVENT
DTSTART:20230422T150000Z
DTEND:20230422T230000Z
X-MICROSOFT-CDO-ALLDAYEVENT:FALSE
SUMMARY:Crafty Coop 1/2 Birthday
DESCRIPTION:Bring your party pants in for some fun at The Crafty Coop's 4.5 year anniversary party!\n\nRefreshments\, specials and a chance to win prizes for all of our customers who attend!\n\nReservations recommended\, walk-ins welcome as table space allows. Contact the studio with questions
X-ALT-DESC;FMTTYPE=text/html:Bring your party pants in for some fun at The Crafty Coop&#39\;s 4.5 year anniversary party!<br />\nRefreshments\, specials and a chance to win prizes for all of our customers who attend!<br />\nReservations recommended\, walk-ins welcome as table space allows. Contact the studio with questions&nbsp\;
LOCATION:The Crafty Coop - 206 N. Lafayette\, Macomb
UID:e.2125.13046
SEQUENCE:3
DTSTAMP:20260423T221735Z
URL:https://business.macombareachamber.com/events/details/crafty-coop-1-2-birthday-13046
END:VEVENT

END:VCALENDAR
