BEGIN:VCALENDAR
VERSION:2.0
PRODID:-//ChamberMaster//Event Calendar 2.0//EN
METHOD:PUBLISH
X-PUBLISHED-TTL:P3D
REFRESH-INTERVAL:P3D
CALSCALE:GREGORIAN
BEGIN:VEVENT
DTSTART:20230907T140000Z
DTEND:20230907T210000Z
X-MICROSOFT-CDO-ALLDAYEVENT:FALSE
SUMMARY:COVID-19 Vaccination Clinic
DESCRIPTION:The McDonough County Health Department is offering a walk-in COVID-19 vaccination clinic on Thursday\, September 7 from 9am-4pm.\n\nNot sure if you're up to date?\n\n\n\nEveryone aged 6 years and older are considered up to date when they have received 1 updated Pfizer or Moderna vaccine.\n\n\n\nPeople who initially received the Johnson & Johnson vaccine are considered up to date when they have received 1 updated COVID vaccine.\n\n\n\nSome groups are eligible to receive more than one dose of the updated vaccine: People aged 65 and older may receive a second updated dose 4 or more months after their 1st.\n\nPeople who are moderately or severely immunocompromised may get 1 additional dose 2 or more months after their their last updated dose. (Consult with your healthcare provider about additional doses).
X-ALT-DESC;FMTTYPE=text/html:<div class="xdj266r x11i5rnm xat24cr x1mh8g0r x1vvkbs x126k92a" style="margin: 0px\; white-space-collapse: preserve\; overflow-wrap: break-word\; font-family: &quot\;Segoe UI Historic&quot\;\, &quot\;Segoe UI&quot\;\, Helvetica\, Arial\, sans-serif\; color: rgb(5\, 5\, 5)\; font-size: 15px\; background-color: rgb(255\, 255\, 255)\;">\n<div dir="auto" style="font-family: inherit\;">The McDonough County Health Department is offering a walk-in COVID-19 vaccination clinic on Thursday\, September 7 from 9am-4pm.</div>\n\n<div dir="auto" style="font-family: inherit\;">Not sure if you&#39\;re up to date?</div>\n</div>\n\n<div class="x11i5rnm xat24cr x1mh8g0r x1vvkbs xtlvy1s x126k92a" style="margin: 0.5em 0px 0px\; white-space-collapse: preserve\; overflow-wrap: break-word\; font-family: &quot\;Segoe UI Historic&quot\;\, &quot\;Segoe UI&quot\;\, Helvetica\, Arial\, sans-serif\; color: rgb(5\, 5\, 5)\; font-size: 15px\; background-color: rgb(255\, 255\, 255)\;">\n<div dir="auto" style="font-family: inherit\;">Everyone aged 6 years and older are considered up to date when they have received 1 updated Pfizer or Moderna vaccine.</div>\n</div>\n\n<div class="x11i5rnm xat24cr x1mh8g0r x1vvkbs xtlvy1s x126k92a" style="margin: 0.5em 0px 0px\; white-space-collapse: preserve\; overflow-wrap: break-word\; font-family: &quot\;Segoe UI Historic&quot\;\, &quot\;Segoe UI&quot\;\, Helvetica\, Arial\, sans-serif\; color: rgb(5\, 5\, 5)\; font-size: 15px\; background-color: rgb(255\, 255\, 255)\;">\n<div dir="auto" style="font-family: inherit\;">People who initially received the Johnson &amp\; Johnson vaccine are considered up to date when they have received 1 updated COVID vaccine.</div>\n</div>\n\n<div class="x11i5rnm xat24cr x1mh8g0r x1vvkbs xtlvy1s x126k92a" style="margin: 0.5em 0px 0px\; white-space-collapse: preserve\; overflow-wrap: break-word\; font-family: &quot\;Segoe UI Historic&quot\;\, &quot\;Segoe UI&quot\;\, Helvetica\, Arial\, sans-serif\; color: rgb(5\, 5\, 5)\; font-size: 15px\; background-color: rgb(255\, 255\, 255)\;">\n<div dir="auto" style="font-family: inherit\;">Some groups are eligible to receive more than one dose of the updated vaccine: People aged 65 and older may receive a second updated dose 4 or more months after their 1st.</div>\n\n<div dir="auto" style="font-family: inherit\;">People who are moderately or severely immunocompromised may get 1 additional dose 2 or more months after their their last updated dose. (Consult with your healthcare provider about additional doses).</div>\n</div>\n
LOCATION:McDonough County Health Department 505 East Jackson Street\, Macomb
UID:e.2125.13756
SEQUENCE:3
DTSTAMP:20260422T151202Z
URL:https://business.macombareachamber.com/events/details/covid-19-vaccination-clinic-13756
END:VEVENT

END:VCALENDAR
