BEGIN:VCALENDAR
VERSION:2.0
PRODID:-//ChamberMaster//Event Calendar 2.0//EN
METHOD:PUBLISH
X-PUBLISHED-TTL:P3D
REFRESH-INTERVAL:P3D
CALSCALE:GREGORIAN
BEGIN:VEVENT
DTSTART;VALUE=DATE:20231027
DTEND;VALUE=DATE:20231028
TRANSP:TRANSPARENT
X-MICROSOFT-CDO-ALLDAYEVENT:TRUE
SUMMARY:Cosplay Costume Party
DESCRIPTION:All ages-family friendly. The Anime and Manga Mania Club is hosting a Cosplay Costume Party & everyone is invited! Dress up in your best family-friendly character costume and stop by for snacks and games.
X-ALT-DESC;FMTTYPE=text/html:All ages-family friendly. The Anime and Manga Mania Club is hosting a Cosplay Costume Party &amp\; everyone is invited! Dress up in your best family-friendly character costume and stop by for snacks and games.&nbsp\;
LOCATION:Macomb Public Library 235 S. Lafayette Street Macomb\, Illinois
UID:e.2125.14088
SEQUENCE:3
DTSTAMP:20260422T122307Z
URL:https://business.macombareachamber.com/events/details/cosplay-costume-party-14088
END:VEVENT

END:VCALENDAR
