BEGIN:VCALENDAR
VERSION:2.0
PRODID:-//ChamberMaster//Event Calendar 2.0//EN
METHOD:PUBLISH
X-PUBLISHED-TTL:P3D
REFRESH-INTERVAL:P3D
CALSCALE:GREGORIAN
BEGIN:VEVENT
DTSTART:20230520T130000Z
DTEND:20230520T160000Z
X-MICROSOFT-CDO-ALLDAYEVENT:FALSE
SUMMARY:Community Shred Day
DESCRIPTION:Protect yourself from identity theft by bringing your personal documents for secure shredding and recycling. We are proud to offer this service free of charge as our way of serving our communities. Event may end earlier if the shred truck fills up before 11 am. No businesses\, please. Secure shredding recycling provided by Confidential Security Corp.
X-ALT-DESC;FMTTYPE=text/html:Protect yourself from identity theft by bringing your personal documents for secure shredding and recycling. We are proud to offer this service free of charge as our way of serving our communities. Event may end earlier if the shred truck fills up before 11 am. No businesses\, please. Secure shredding recycling provided by Confidential Security Corp.
LOCATION:2500 East Jackson Street (Spoon River College Community Outreach Center) in Macomb
UID:e.2125.13390
SEQUENCE:3
DTSTAMP:20260423T233040Z
URL:https://business.macombareachamber.com/events/details/community-shred-day-05-20-2023-13390
END:VEVENT

END:VCALENDAR
