BEGIN:VCALENDAR
VERSION:2.0
PRODID:-//ChamberMaster//Event Calendar 2.0//EN
METHOD:PUBLISH
X-PUBLISHED-TTL:P3D
REFRESH-INTERVAL:P3D
CALSCALE:GREGORIAN
BEGIN:VEVENT
DTSTART;VALUE=DATE:20231029
DTEND;VALUE=DATE:20231030
TRANSP:TRANSPARENT
X-MICROSOFT-CDO-ALLDAYEVENT:TRUE
SUMMARY:Community Art
DESCRIPTION:The Western Illinois University Art Department will offer a free Community Art Program for students in grades 1-8 over three Sundays in October and November.\n\n\n\nClasses will be held Oct. 29 and Nov. 5 and 13. Classes for grades 1-2 will be held from 1-2:30 p.m. in Garwood Hall\, room 24\; grades 3-4 will be held from 1-2:30 p.m. in Garwood Hall\, room 25\; and grades 5-8 will be held from 3-4:30 p.m. in Garwood Hall\, room 24 each Sunday.\n\n\n\nThis program is designed for students in grades 1-8 interested in exploring various art topics. Students in grades 1-2 will have the opportunity to create art pieces related to nature\, such as a tree\, a spider web dream catcher and a corn cob with texture. They will work with colors in both two and three-dimensional art to develop their artistic skills. Students in grades 3-4 will learn 2D design and 3D creation techniques. They will create woven owls\, a stained glass fixture and a layered cutout using paper landscape scenes. Students in grades 5-8 will design and construct their own haunted house by creating a patterned fabric by carving stamps and transferring the design with fabric paint.\n\n\n\nTo register for the program\,\n\nemail Abigail Ehrenberger at am-ehrenberger@wiu.edu
X-ALT-DESC;FMTTYPE=text/html:<span style="font-family: &quot\;Open Sans&quot\;\, serif\; font-size: 16px\; background-color: rgb(255\, 255\, 255)\;">&nbsp\;The&nbsp\;</span><a href="https://www.wiu.edu/cofac/art/" style="margin: 0px\; padding: 0px\; border: 0px\; font-variant-numeric: inherit\; font-variant-east-asian: inherit\; font-variant-alternates: inherit\; font-variant-position: inherit\; font-stretch: inherit\; font-size: 16px\; line-height: inherit\; font-family: &quot\;Open Sans&quot\;\, serif\; font-optical-sizing: inherit\; font-kerning: inherit\; font-feature-settings: inherit\; font-variation-settings: inherit\; vertical-align: baseline\; color: rgb(102\, 51\, 153)\; text-decoration-line: none\; background-color: rgb(255\, 255\, 255)\;">Western Illinois University Art Department</a><span style="font-family: &quot\;Open Sans&quot\;\, serif\; font-size: 16px\; background-color: rgb(255\, 255\, 255)\;">&nbsp\;will offer a free Community Art Program for students in grades 1-8 over three Sundays in October and November.</span><br style="font-family: &quot\;Open Sans&quot\;\, serif\; font-size: 16px\; background-color: rgb(255\, 255\, 255)\;" />\n<br style="font-family: &quot\;Open Sans&quot\;\, serif\; font-size: 16px\; background-color: rgb(255\, 255\, 255)\;" />\n<span style="font-family: &quot\;Open Sans&quot\;\, serif\; font-size: 16px\; background-color: rgb(255\, 255\, 255)\;">Classes will be held Oct. 29 and Nov. 5 and 13. Classes for grades 1-2 will be held from 1-2:30 p.m. in Garwood Hall\, room 24\; grades 3-4 will be held from 1-2:30 p.m. in Garwood Hall\, room 25\; and grades 5-8 will be held from 3-4:30 p.m. in Garwood Hall\, room 24 each Sunday.</span><br style="font-family: &quot\;Open Sans&quot\;\, serif\; font-size: 16px\; background-color: rgb(255\, 255\, 255)\;" />\n<br style="font-family: &quot\;Open Sans&quot\;\, serif\; font-size: 16px\; background-color: rgb(255\, 255\, 255)\;" />\n<span style="font-family: &quot\;Open Sans&quot\;\, serif\; font-size: 16px\; background-color: rgb(255\, 255\, 255)\;">This program is designed for students in grades 1-8 interested in exploring various art topics. Students in grades 1-2 will have the opportunity to create art pieces related to nature\, such as a tree\, a spider web dream catcher and a corn cob with texture. They will work with colors in both two and three-dimensional art to develop their artistic skills. Students in grades 3-4 will learn 2D design and 3D creation techniques. They will create woven owls\, a stained glass fixture and a layered cutout using paper landscape scenes. Students in grades 5-8 will design and construct their own haunted house by creating a patterned fabric by carving stamps and transferring the design with fabric paint.</span><br style="font-family: &quot\;Open Sans&quot\;\, serif\; font-size: 16px\; background-color: rgb(255\, 255\, 255)\;" />\n<br style="font-family: &quot\;Open Sans&quot\;\, serif\; font-size: 16px\; background-color: rgb(255\, 255\, 255)\;" />\n<span style="font-family: &quot\;Open Sans&quot\;\, serif\; font-size: 16px\; background-color: rgb(255\, 255\, 255)\;">To register for the program\,<br />\nemail Abigail Ehrenberger at am-ehrenberger@wiu.edu</span>
LOCATION:
UID:e.2125.14073
SEQUENCE:3
DTSTAMP:20260422T121153Z
URL:https://business.macombareachamber.com/events/details/community-art-14073
END:VEVENT

END:VCALENDAR
