BEGIN:VCALENDAR
VERSION:2.0
PRODID:-//ChamberMaster//Event Calendar 2.0//EN
METHOD:PUBLISH
X-PUBLISHED-TTL:P3D
REFRESH-INTERVAL:P3D
CALSCALE:GREGORIAN
BEGIN:VEVENT
DTSTART:20231015T170000Z
DTEND:20231015T200000Z
X-MICROSOFT-CDO-ALLDAYEVENT:FALSE
SUMMARY:Color Traveling Leaves
DESCRIPTION:Experiment with absorption art to create color traveling leaves!
X-ALT-DESC;FMTTYPE=text/html:Experiment with absorption art to create color traveling leaves!
LOCATION:Discovery Depot Children's Museum 128 South Chambers Street Galesburg IL\,61401
UID:e.2125.14019
SEQUENCE:3
DTSTAMP:20260422T123850Z
URL:https://business.macombareachamber.com/events/details/color-traveling-leaves-14019
END:VEVENT

END:VCALENDAR
