BEGIN:VCALENDAR
VERSION:2.0
PRODID:-//ChamberMaster//Event Calendar 2.0//EN
METHOD:PUBLISH
X-PUBLISHED-TTL:P3D
REFRESH-INTERVAL:P3D
CALSCALE:GREGORIAN
BEGIN:VEVENT
DTSTART:20220718T134500Z
DTEND:20220721T164500Z
X-MICROSOFT-CDO-ALLDAYEVENT:FALSE
SUMMARY:College for Kids
DESCRIPTION:College for Kids Summer 2022\n\nKids entering 1st - 6th grade\n\nMonday\, July 18 - Thursday\, July 21\n\n8:45 am - 11:45 am
X-ALT-DESC;FMTTYPE=text/html:College for Kids Summer 2022<br />\nKids entering 1st - 6th grade<br />\nMonday\, July 18 - Thursday\, July 21<br />\n8:45 am - 11:45 am&nbsp\; &nbsp\;
LOCATION:Macomb Outreach Center 2500 East Jackson St Macomb\, IL 61455 309-833-6031
UID:e.2125.9797
SEQUENCE:3
DTSTAMP:20260422T133945Z
URL:https://business.macombareachamber.com/events/details/college-for-kids-9797
END:VEVENT

END:VCALENDAR
