BEGIN:VCALENDAR
VERSION:2.0
PRODID:-//ChamberMaster//Event Calendar 2.0//EN
METHOD:PUBLISH
X-PUBLISHED-TTL:P3D
REFRESH-INTERVAL:P3D
CALSCALE:GREGORIAN
BEGIN:VEVENT
DTSTART:20241005T140000Z
DTEND:20241005T170000Z
X-MICROSOFT-CDO-ALLDAYEVENT:FALSE
SUMMARY:Coffee\, Cars & Coats
DESCRIPTION:Car Show. A benefit for McDonough Power Cooperative's Coats for Kids Program to recognize the service of linemen. Coffee\, donuts\, and water available for a donation of a new winter coat/cash. 50/50 drawing. DJ M&S Light and Sound will supply music.
X-ALT-DESC;FMTTYPE=text/html:Car Show. A benefit for McDonough Power Cooperative&#39\;s Coats for Kids Program to recognize the service of linemen. Coffee\, donuts\, and water available for a donation of a new winter coat/cash. 50/50 drawing. DJ M&amp\;S Light and Sound will supply music.&nbsp\;
LOCATION:Former Farm King Parking Lot 2700 E. Jackson St. Macomb\, IL
UID:e.2125.16007
SEQUENCE:3
DTSTAMP:20260422T054557Z
URL:https://business.macombareachamber.com/events/details/coffee-cars-coats-16007
END:VEVENT

END:VCALENDAR
