BEGIN:VCALENDAR
VERSION:2.0
PRODID:-//ChamberMaster//Event Calendar 2.0//EN
METHOD:PUBLISH
X-PUBLISHED-TTL:P3D
REFRESH-INTERVAL:P3D
CALSCALE:GREGORIAN
BEGIN:VEVENT
DTSTART:20231021T140000Z
DTEND:20231021T170000Z
X-MICROSOFT-CDO-ALLDAYEVENT:FALSE
SUMMARY:Coffee\, Cars & Caring: The Landon Cromer Family Benefit
DESCRIPTION:Coffee\, Cars & Caring - The Landon Cromer Family Benefit. Coffee\, donuts\, hot chocolate\, and water available for donation. Donuts provided by Casey's General Store. DJ provided by M&S Light and Sound. 50/50 Drawing. All proceeds donated to the family of Landon Cromer.
X-ALT-DESC;FMTTYPE=text/html:Coffee\, Cars &amp\; Caring - The Landon Cromer Family Benefit. Coffee\, donuts\, hot chocolate\, and water available for donation. Donuts provided by Casey&#39\;s General Store. DJ provided by M&amp\;S Light and Sound. 50/50 Drawing. All proceeds donated to the family of Landon Cromer.&nbsp\;
LOCATION:Former Farm King Store 2700 E. Jackson Street Macomb\, Illinois
UID:e.2125.14059
SEQUENCE:3
DTSTAMP:20260422T123122Z
URL:https://business.macombareachamber.com/events/details/coffee-cars-caring-the-landon-cromer-family-benefit-14059
END:VEVENT

END:VCALENDAR
