BEGIN:VCALENDAR
VERSION:2.0
PRODID:-//ChamberMaster//Event Calendar 2.0//EN
METHOD:PUBLISH
X-PUBLISHED-TTL:P3D
REFRESH-INTERVAL:P3D
CALSCALE:GREGORIAN
BEGIN:VEVENT
DTSTART;VALUE=DATE:20220902
DTEND;VALUE=DATE:20220903
TRANSP:TRANSPARENT
X-MICROSOFT-CDO-ALLDAYEVENT:TRUE
SUMMARY:Closed to Refresh
DESCRIPTION:Closed for Refresh August 29th-September 2nd.\n\n\n\nWe will reopen on Saturday September 3rd.\n\n\n\nWe look forward to seeing you again!
X-ALT-DESC;FMTTYPE=text/html:Closed for Refresh August 29th-September 2nd.<br />\n<br />\nWe will reopen on Saturday September 3rd.<br />\n<br />\nWe look forward to seeing you again!
LOCATION:
UID:e.2125.9981
SEQUENCE:3
DTSTAMP:20260423T085222Z
URL:https://business.macombareachamber.com/events/details/closed-to-refresh-09-02-2022-9981
END:VEVENT

END:VCALENDAR
