BEGIN:VCALENDAR
VERSION:2.0
PRODID:-//ChamberMaster//Event Calendar 2.0//EN
METHOD:PUBLISH
X-PUBLISHED-TTL:P3D
REFRESH-INTERVAL:P3D
CALSCALE:GREGORIAN
BEGIN:VEVENT
DTSTART;VALUE=DATE:20230421
DTEND;VALUE=DATE:20230423
TRANSP:TRANSPARENT
X-MICROSOFT-CDO-ALLDAYEVENT:TRUE
SUMMARY:Clinical/Community Mental Health 50th Anniversary Celebration
DESCRIPTION:We cannot wait to celebrate with you to commemorate our 50th Anniversary of the Clinical/Community Mental Health graduate program at Western Illinois University! \n\n**PLEASE FORMALLY SIGN UP AT THE FOLLOWING LINK AS REGISTRATION IS REQUIRED FOR ALL EVENTS\, INCLUDING THOSE WHICH ARE FREE TO ATTEND FOR PURPOSES OF HEAD COUNT AND EASE OF TRACKING WHO WILL BE IN ATTENDANCE**\n\nItinerary:\n\n- Friday\, April 21st\, 2023\, 5PM -- Happy Hour & Social (at the Alumni House)\n\n- Saturday\, April 22nd\, 2023\, 9AM -- Family Day Breakfast (at Hornfield Campus)\n\n- Saturday\, April 22nd\, 2023\, 12PM -- Lunch Program (at Sherman Hall)
X-ALT-DESC;FMTTYPE=text/html:We cannot wait to celebrate with you to commemorate our 50th Anniversary of the Clinical/Community Mental Health graduate program at Western Illinois University!&nbsp\;<br />\n**PLEASE FORMALLY SIGN UP AT THE FOLLOWING LINK AS REGISTRATION IS REQUIRED FOR ALL EVENTS\, INCLUDING THOSE WHICH ARE FREE TO ATTEND FOR PURPOSES OF HEAD COUNT AND EASE OF TRACKING WHO WILL BE IN ATTENDANCE**<br />\nItinerary:<br />\n- Friday\, April 21st\, 2023\, 5PM -- Happy Hour &amp\; Social (at the Alumni House)<br />\n- Saturday\, April 22nd\, 2023\, 9AM -- Family Day Breakfast (at Hornfield Campus)<br />\n- Saturday\, April 22nd\, 2023\, 12PM -- Lunch Program (at Sherman Hall)&nbsp\;
LOCATION:Western Illinois University - Macomb Campus
UID:e.2125.13093
SEQUENCE:3
DTSTAMP:20260423T222525Z
URL:https://business.macombareachamber.com/events/details/clinical-community-mental-health-50th-anniversary-celebration-13093
END:VEVENT

END:VCALENDAR
