BEGIN:VCALENDAR
VERSION:2.0
PRODID:-//ChamberMaster//Event Calendar 2.0//EN
METHOD:PUBLISH
X-PUBLISHED-TTL:P3D
REFRESH-INTERVAL:P3D
CALSCALE:GREGORIAN
BEGIN:VEVENT
DTSTART:20220910T180000Z
DTEND:20220910T211500Z
X-MICROSOFT-CDO-ALLDAYEVENT:FALSE
SUMMARY:*Clicks for CASA* Photo Scavenger Hunt!
DESCRIPTION:Time & Location\n\n\n\nSep 10\, 1:00 PM   4:30 PM CDT\n\nSports Corner @ 124\, 124 N Randolph St\, Macomb\, IL 61455\, USA\n\n\n\n\nAbout the Event\n\n\n\n\nThe Hunt starts at 1pm and you and your team will have until 4:15pm SHARP to take pictures of your group doing activities from the Hunt List!  Join us at 4:15pm for snacks and announcement of winners once we tally the scores!  All funds raised from this event stay in Macomb to help us further our mission of speaking up for and supporting the best interests of abused and neglected children in the court system.  \n\n \n\nTeams of up to 4 people:  $100/team
X-ALT-DESC;FMTTYPE=text/html:<h2 class="qm25yv FeNmRv o8Gcl_" data-hook="time-and-location" style="margin: 60px 0px 0.5em\; padding: 0px\; border: 0px\; outline: 0px\; vertical-align: baseline\; background: transparent\; font-variant-numeric: normal\; font-variant-east-asian: normal\; font-stretch: normal\; font-size: 30px\; line-height: 37px\; font-family: poppins-semibold\, poppins\, sans-serif\; color: rgb(12\, 44\, 76)\;">Time &amp\; Location</h2>\n\n<div class="Ovefgh" style="margin: 0px 0px 42px\; padding: 0px\; border: 0px\; outline: 0px\; vertical-align: baseline\; background: transparent\; display: flex\; align-items: center\; justify-content: space-between\; color: rgb(0\, 0\, 0)\; font-family: Arial\, Helvetica\, sans-serif\; font-size: 10px\;">\n<div class="cAfK07 pUrXIs ZQLSml" style="margin: 0px\; padding: 0px\; border: 0px\; outline: 0px\; vertical-align: baseline\; background: transparent\; font-variant-numeric: normal\; font-variant-east-asian: normal\; font-stretch: normal\; font-size: 16px\; line-height: 20px\; font-family: poppins-semibold\, poppins\, sans-serif\; flex-grow: 1\; color: rgb(12\, 44\, 76)\;">\n<p class="wJMJC7" data-hook="event-full-date" style="margin: 0px\; padding: 0px\; border: 0px\; outline: 0px\; vertical-align: baseline\; background: transparent\; display: inline-block\;">Sep 10\, 1:00 PM &ndash\; 4:30 PM CDT</p>\n\n<p data-hook="event-full-location" style="margin: 0px\; padding: 0px\; border: 0px\; outline: 0px\; vertical-align: baseline\; background: transparent\;">Sports Corner @ 124\, 124 N Randolph St\, Macomb\, IL 61455\, USA</p>\n</div>\n</div>\n\n<div class="SKIqU7 pUrXIs ZQLSml" data-hook="about-section" style="margin: 0px\; padding: 0px\; border: 0px\; outline: 0px\; vertical-align: baseline\; background: transparent\; font-variant-numeric: normal\; font-variant-east-asian: normal\; font-stretch: normal\; font-size: 16px\; line-height: 20px\; font-family: poppins-semibold\, poppins\, sans-serif\; color: rgb(12\, 44\, 76)\;">\n<h2 class="qm25yv FeNmRv o8Gcl_" data-hook="about" style="margin: 60px 0px 0.5em\; padding: 0px\; border: 0px\; outline: 0px\; vertical-align: baseline\; background: transparent\; font-variant-numeric: normal\; font-variant-east-asian: normal\; font-stretch: normal\; font-size: 30px\; line-height: 37px\;">About the Event</h2>\n\n<div class="CUFA8G" data-hook="about-section-wrapper" id="events-details-page-about-wrapper" style="margin: 0px\; padding: 0px\; border: 0px\; outline: 0px\; vertical-align: baseline\; background: transparent\; overflow: hidden\; max-height: 12em\;">\n<div class="MPJmjG" data-hook="about-section-text" id="events-details-page-about-inner" role="text" style="margin: 0px\; padding: 0px\; border: 0px\; outline: 0px\; vertical-align: baseline\; background: transparent\;">\n<div style="margin: 0px\; padding: 0px\; border: 0px\; outline: 0px\; vertical-align: baseline\; background: transparent\;">\n<p style="margin: 0px\; padding: 0px\; border: 0px\; outline: 0px\; vertical-align: baseline\; background: transparent\; min-height: 1.5em\;">The Hunt starts at 1pm and you and your team will have until 4:15pm SHARP to take pictures of your group doing activities from the Hunt List! &nbsp\;Join us at 4:15pm for snacks and announcement of winners once we tally the scores! &nbsp\;All funds raised from this event stay in Macomb to help us further our mission of speaking up for and supporting the best interests of abused and neglected children in the court system. &nbsp\;</p>\n\n<p style="margin: 0px\; padding: 0px\; border: 0px\; outline: 0px\; vertical-align: baseline\; background: transparent\; min-height: 1.5em\;">&nbsp\;</p>\n\n<p style="margin: 0px\; padding: 0px\; border: 0px\; outline: 0px\; vertical-align: baseline\; background: transparent\; min-height: 1.5em\;">Teams of up to 4 people: &nbsp\;$100/team</p>\n</div>\n</div>\n</div>\n</div>\n
LOCATION:
UID:e.2125.10009
SEQUENCE:3
DTSTAMP:20260423T090512Z
URL:https://business.macombareachamber.com/events/details/clicks-for-casa-photo-scavenger-hunt-10009
END:VEVENT

END:VCALENDAR
