BEGIN:VCALENDAR
VERSION:2.0
PRODID:-//ChamberMaster//Event Calendar 2.0//EN
METHOD:PUBLISH
X-PUBLISHED-TTL:P3D
REFRESH-INTERVAL:P3D
CALSCALE:GREGORIAN
BEGIN:VEVENT
DTSTART:20230924T170000Z
DTEND:20230924T190000Z
X-MICROSOFT-CDO-ALLDAYEVENT:FALSE
SUMMARY:Clay Creations!
DESCRIPTION:Join us on Sunday\, September 24th to use your imagination to design a clay creation! \n\nFree with admission
X-ALT-DESC;FMTTYPE=text/html:Join us on Sunday\, September 24th to use your imagination to design a clay creation!&nbsp\;<br />\nFree with admission
LOCATION:
UID:e.2125.13710
SEQUENCE:3
DTSTAMP:20260421T081920Z
URL:https://business.macombareachamber.com/events/details/clay-creations-09-24-2023-13710
END:VEVENT

END:VCALENDAR
