BEGIN:VCALENDAR
VERSION:2.0
PRODID:-//ChamberMaster//Event Calendar 2.0//EN
METHOD:PUBLISH
X-PUBLISHED-TTL:P3D
REFRESH-INTERVAL:P3D
CALSCALE:GREGORIAN
BEGIN:VEVENT
DTSTART;VALUE=DATE:20230515
DTEND;VALUE=DATE:20230519
TRANSP:TRANSPARENT
X-MICROSOFT-CDO-ALLDAYEVENT:TRUE
SUMMARY:City-Wide Clean Up
DESCRIPTION:PUBLIC SERVICE ANNOUNCEMENT\n\nCITY-WIDE CLEAN UP ANNOUNCED\n\n\n\nMACOMB- The city of Macomb and Waste Management request the assistance of the citizens of Macomb in the Spring City-Wide Clean-Up May 15-18\, 2023 followed by a second pick up on the Monday route on May 22.  Residents should place their refuse and trash curbside no earlier than 48 hours before their regular garbage pickup day.  Clean up begins at 6:00 a.m. on your normal pickup day.  Unfortunately\, some residents are not placing their refuse and trash out until after the crews have passed their homes\, which necessitate contractors and city crews to retrace their steps\, prolonging the time and resources devoted to the effort.  Mayor Mike Inman encouraged city residents\, "This is a beneficial service provided to the community.  On-time placement of refuse and trash keeps the cost down and reduces the neighborhood unsightliness associated with the program."\n\n\n\nResidents are advised that refuse and trash should be placed in containers or bundles weighing less than 50 pounds.  Sturdy bags\, including plastic trash bags\, will be permitted containers for this event only.  "White goods" and bulk items are to be placed as close to the curb as possible.  Loose refuse and electronics are not permitted.\n\n\n\nOther items not included in the pickup are: Yard Waste\, Liquid Waste (paint\, motor oil\, thinner)\, Hazardous Waste (gasoline\, propane\, chemical wastes\, insecticides/pesticides)\, Electronics (TV's\, Computers\, Fax/Copy Machines\, Cell Phones\, Stereo Equipment)\, Tires\, Batteries\, Large Auto Parts\, Construction and Demolition Debris\, or Concrete Preparation.
X-ALT-DESC;FMTTYPE=text/html:PUBLIC SERVICE ANNOUNCEMENT<br />\nCITY-WIDE CLEAN UP ANNOUNCED<br />\n<br />\nMACOMB- The city of Macomb and Waste Management request the assistance of the citizens of Macomb in the Spring City-Wide Clean-Up May 15-18\, 2023 followed by a second pick up on the Monday route on May 22.&nbsp\; Residents should place their refuse and trash curbside no earlier than 48 hours before their regular garbage pickup day.&nbsp\; Clean up begins at 6:00 a.m. on your normal pickup day.&nbsp\; Unfortunately\, some residents are not placing their refuse and trash out until after the crews have passed their homes\, which necessitate contractors and city crews to retrace their steps\, prolonging the time and resources devoted to the effort.&nbsp\; Mayor Mike Inman encouraged city residents\, &ldquo\;This is a beneficial service provided to the community.&nbsp\; On-time placement of refuse and trash keeps the cost down and reduces the neighborhood unsightliness associated with the program.&rdquo\;<br />\n<br />\nResidents are advised that refuse and trash should be placed in containers or bundles weighing less than 50 pounds.&nbsp\; Sturdy bags\, including plastic trash bags\, will be permitted containers for this event only.&nbsp\; &ldquo\;White goods&rdquo\; and bulk items are to be placed as close to the curb as possible.&nbsp\; Loose refuse and electronics are not permitted.<br />\n<br />\nOther items not included in the pickup are: Yard Waste\, Liquid Waste (paint\, motor oil\, thinner)\, Hazardous Waste (gasoline\, propane\, chemical wastes\, insecticides/pesticides)\, Electronics (TV&rsquo\;s\, Computers\, Fax/Copy Machines\, Cell Phones\, Stereo Equipment)\, Tires\, Batteries\, Large Auto Parts\, Construction and Demolition Debris\, or Concrete Preparation.
LOCATION:Macomb\, Illinois
UID:e.2125.13356
SEQUENCE:3
DTSTAMP:20260423T233024Z
URL:https://business.macombareachamber.com/events/details/city-wide-clean-up-13356
END:VEVENT

END:VCALENDAR
