BEGIN:VCALENDAR
VERSION:2.0
PRODID:-//ChamberMaster//Event Calendar 2.0//EN
METHOD:PUBLISH
X-PUBLISHED-TTL:P3D
REFRESH-INTERVAL:P3D
CALSCALE:GREGORIAN
BEGIN:VEVENT
DTSTART:20241030T223000Z
DTEND:20241101T010000Z
X-MICROSOFT-CDO-ALLDAYEVENT:FALSE
SUMMARY:City of Macomb: Trick or Treating
DESCRIPTION:City of Macomb Trick or Treat hours are October 30th and 31st\n\n5:30 - 8:00 PM. Leave the exterior light or porch light on to indicate you are giving out candy.
X-ALT-DESC;FMTTYPE=text/html:City of Macomb Trick or Treat hours are October 30th and 31st<br />\n5:30 - 8:00 PM. Leave the exterior light or porch light on to indicate you are giving out candy.
LOCATION:
UID:e.2125.16020
SEQUENCE:3
DTSTAMP:20260421T082250Z
URL:https://business.macombareachamber.com/events/details/city-of-macomb-trick-or-treating-16020
END:VEVENT

END:VCALENDAR
