BEGIN:VCALENDAR
VERSION:2.0
PRODID:-//ChamberMaster//Event Calendar 2.0//EN
METHOD:PUBLISH
X-PUBLISHED-TTL:P3D
REFRESH-INTERVAL:P3D
CALSCALE:GREGORIAN
BEGIN:VEVENT
DTSTART:20231005T223000Z
DTEND:20231006T000000Z
X-MICROSOFT-CDO-ALLDAYEVENT:FALSE
SUMMARY:Chalk Couture Halloween Corkboard and Pin Set
DESCRIPTION:Go batty for a kit that has everything you need to create a unique and fun decor piece for the spooky season!
X-ALT-DESC;FMTTYPE=text/html:Go batty for a kit that has everything you need to create a unique and fun decor piece for the spooky season!
LOCATION:Spoon River College Outreach Center - 2500 E. Jackson Street\, Macomb
UID:e.2125.13779
SEQUENCE:3
DTSTAMP:20260422T122755Z
URL:https://business.macombareachamber.com/events/details/chalk-couture-halloween-corkboard-and-pin-set-13779
END:VEVENT

END:VCALENDAR
