BEGIN:VCALENDAR
VERSION:2.0
PRODID:-//ChamberMaster//Event Calendar 2.0//EN
METHOD:PUBLISH
X-PUBLISHED-TTL:P3D
REFRESH-INTERVAL:P3D
CALSCALE:GREGORIAN
BEGIN:VEVENT
DTSTART:20230922T220000Z
DTEND:20230923T000000Z
X-MICROSOFT-CDO-ALLDAYEVENT:FALSE
SUMMARY:CASA Happy Hour
DESCRIPTION:Announcing CASA HAPPY HOUR! Come see us\, have a drink\, and learn more about becoming a CASA Volunteer and helping a foster child thrive in our community!
X-ALT-DESC;FMTTYPE=text/html:Announcing CASA HAPPY HOUR! Come see us\, have a drink\, and learn more about becoming a CASA Volunteer and helping a foster child thrive in our community!
LOCATION:Buffalo Wild Wings
UID:e.2125.13731
SEQUENCE:3
DTSTAMP:20260422T151230Z
URL:https://business.macombareachamber.com/events/details/casa-happy-hour-09-22-2023-13731
END:VEVENT

END:VCALENDAR
