BEGIN:VCALENDAR
VERSION:2.0
PRODID:-//ChamberMaster//Event Calendar 2.0//EN
METHOD:PUBLISH
X-PUBLISHED-TTL:P3D
REFRESH-INTERVAL:P3D
CALSCALE:GREGORIAN
BEGIN:VEVENT
DTSTART:20230610T140000Z
DTEND:20230610T170000Z
X-MICROSOFT-CDO-ALLDAYEVENT:FALSE
SUMMARY:Cars and Coffee Macomb
DESCRIPTION:Join us for an exhilarating morning of Cars and Coffee! \n\nCalling all car enthusiasts and proud car owners! Mark your calendars for Saturday\, June 10th\, and come down to our thrilling event where you can showcase your remarkable rides! Whether you have a classic beauty\, a powerful sports car\, or simply something you're incredibly proud of\, we want to see it!\n\nKunes Auto Group of Macomb\n\n Time: 9 am - 12 pm\n\n What to Expect:\n\n An incredible display of cars from various eras and styles\n\nEngage with fellow car enthusiasts and share stories\n\nFree-flowing coffee to keep you energized\n\nDelicious donuts to satisfy your sweet tooth\n\nThis is a fantastic opportunity to connect with like-minded individuals who share your passion for automobiles. From vintage treasures to modern marvels\, there will be something for everyone to admire!\n\nWe can't wait to see you and your spectacular cars on June 10th!
X-ALT-DESC;FMTTYPE=text/html:Join us for an exhilarating morning of Cars and Coffee!&nbsp\;<br />\nCalling all car enthusiasts and proud car owners! Mark your calendars for Saturday\, June 10th\, and come down to our thrilling event where you can showcase your remarkable rides! Whether you have a classic beauty\, a powerful sports car\, or simply something you&#39\;re incredibly proud of\, we want to see it!<br />\nKunes Auto Group of Macomb<br />\n&nbsp\;Time: 9 am - 12 pm<br />\n&nbsp\;What to Expect:<br />\n&nbsp\;An incredible display of cars from various eras and styles<br />\nEngage with fellow car enthusiasts and share stories<br />\nFree-flowing coffee to keep you energized<br />\nDelicious donuts to satisfy your sweet tooth<br />\nThis is a fantastic opportunity to connect with like-minded individuals who share your passion for automobiles. From vintage treasures to modern marvels\, there will be something for everyone to admire!<br />\nWe can&#39\;t wait to see you and your spectacular cars on June 10th!
LOCATION:Kunes Auto Group - 3200 E. Jackson Street
UID:e.2125.13561
SEQUENCE:3
DTSTAMP:20260423T204751Z
URL:https://business.macombareachamber.com/events/details/cars-and-coffee-macomb-13561
END:VEVENT

END:VCALENDAR
