BEGIN:VCALENDAR
VERSION:2.0
PRODID:-//ChamberMaster//Event Calendar 2.0//EN
METHOD:PUBLISH
X-PUBLISHED-TTL:P3D
REFRESH-INTERVAL:P3D
CALSCALE:GREGORIAN
BEGIN:VEVENT
DTSTART:20230405T190000Z
DTEND:20230405T203000Z
X-MICROSOFT-CDO-ALLDAYEVENT:FALSE
SUMMARY:Caregiver Stress-Buster Dementia Program
DESCRIPTION:Program for Family Caregivers of People with Alzheimer's Disease or Dementia. We know caregiving can be stressful. This program will teach stress management techniques\, relaxation and coping strategies. Available for groups of up to 8 people.
X-ALT-DESC;FMTTYPE=text/html:Program for Family Caregivers of People with Alzheimer&#39\;s Disease or Dementia. We know caregiving can be stressful. This program will teach stress management techniques\, relaxation and coping strategies. Available for groups of up to 8 people.&nbsp\;
LOCATION:YMCA Senior Center - 400 East Calhoun Street\, Macomb
UID:e.2125.12694
SEQUENCE:3
DTSTAMP:20260423T221547Z
URL:https://business.macombareachamber.com/events/details/caregiver-stress-buster-dementia-program-12694
END:VEVENT

END:VCALENDAR
