BEGIN:VCALENDAR
VERSION:2.0
PRODID:-//ChamberMaster//Event Calendar 2.0//EN
METHOD:PUBLISH
X-PUBLISHED-TTL:P3D
REFRESH-INTERVAL:P3D
CALSCALE:GREGORIAN
BEGIN:VEVENT
DTSTART:20230402T180000Z
DTEND:20230402T220000Z
X-MICROSOFT-CDO-ALLDAYEVENT:FALSE
SUMMARY:Car Care 2023
DESCRIPTION:We are so excited to bring Car Care to The Crossing on 4/2/23! This day is designed to show our communities we're "in your corner". If you're a foster parent\, veteran\, active military\, single parent\, or widow\, we'd be honored to get to serve you by detailing and inspecting your car at no charge. While your car is being worked on we'll invite you and your children inside for activities curated for all ages. \n\n\n\nOnce you sign up someone from your location will contact you to schedule your appointment time.
X-ALT-DESC;FMTTYPE=text/html:We are so excited to bring Car Care to The Crossing on 4/2/23! This day is designed to show our communities we&#39\;re &quot\;in your corner&quot\;. If you&#39\;re a foster parent\, veteran\, active military\, single parent\, or widow\, we&#39\;d be honored to get to serve you by detailing and inspecting your car at no charge. While your car is being worked on we&#39\;ll invite you and your children inside for activities curated for all ages.&nbsp\;<br />\n<br />\nOnce you sign up someone from your location will contact you to schedule your appointment time.&nbsp\;
LOCATION:The Crossing - 1600 West Jackson Street\, Macomb.
UID:e.2125.12787
SEQUENCE:3
DTSTAMP:20260423T221449Z
URL:https://business.macombareachamber.com/events/details/car-care-2023-12787
END:VEVENT

END:VCALENDAR
