BEGIN:VCALENDAR
VERSION:2.0
PRODID:-//ChamberMaster//Event Calendar 2.0//EN
METHOD:PUBLISH
X-PUBLISHED-TTL:P3D
REFRESH-INTERVAL:P3D
CALSCALE:GREGORIAN
BEGIN:VEVENT
DTSTART:20230803T190000Z
DTEND:20230803T210000Z
X-MICROSOFT-CDO-ALLDAYEVENT:FALSE
SUMMARY:Breastfeeding Celebration Event
DESCRIPTION:McDonough County Health Department hosts a Breastfeeding Celebration Event. Moms and families welcome. Join us in celebrating breastfeeding parents for National Breastfeeding Week. Pregnant\, currently nursing\, or parents that nursed in the past are welcome to celebrate breastfeeding in our community. Enjoy free giveaways/door prizes\, crafts/games\, snack/beverages.
X-ALT-DESC;FMTTYPE=text/html:McDonough County Health Department hosts a Breastfeeding Celebration Event. Moms and families welcome. Join us in celebrating breastfeeding parents for National Breastfeeding Week. Pregnant\, currently nursing\, or parents that nursed in the past are welcome to celebrate breastfeeding in our community. Enjoy free giveaways/door prizes\, crafts/games\, snack/beverages.
LOCATION:McDonough County Health Dept. - 505 E. Jackson St.
UID:e.2125.13614
SEQUENCE:3
DTSTAMP:20260423T162926Z
URL:https://business.macombareachamber.com/events/details/breastfeeding-celebration-event-13614
END:VEVENT

END:VCALENDAR
