BEGIN:VCALENDAR
VERSION:2.0
PRODID:-//ChamberMaster//Event Calendar 2.0//EN
METHOD:PUBLISH
X-PUBLISHED-TTL:P3D
REFRESH-INTERVAL:P3D
CALSCALE:GREGORIAN
BEGIN:VEVENT
DTSTART:20250412T130000Z
DTEND:20250412T150000Z
X-MICROSOFT-CDO-ALLDAYEVENT:FALSE
SUMMARY:Breaktfast with the Easter Bunny
DESCRIPTION:Hop on over to Hy-Vee Saturday\, April 12 from 8AM-10AM for our Easter Bunny breakfast!   Then\, stay for the Easter Egg Hunt at 10AM!\n\n  Coloring Pages\n\n  Breakfast Buffet: $10 Adults & $5 Kids 12 & under\n\n  Easter Bunny Visit\n\n  Easter Egg Hunt\n\nSee you there!
X-ALT-DESC;FMTTYPE=text/html:Hop on over to Hy-Vee Saturday\, April 12 from 8AM-10AM for our Easter Bunny breakfast! &#128048\; Then\, stay for the Easter Egg Hunt at 10AM!<br />\n&#128397\; Coloring Pages<br />\n&#129374\; Breakfast Buffet: $10 Adults &amp\; $5 Kids 12 &amp\; under<br />\n&#128048\; Easter Bunny Visit<br />\n&#129370\; Easter Egg Hunt<br />\nSee you there!
LOCATION:Hy-Vee 1600 East Jackson Street Macomb\, IL
UID:e.2125.18824
SEQUENCE:3
DTSTAMP:20260420T112818Z
URL:https://business.macombareachamber.com/events/details/breaktfast-with-the-easter-bunny-18824
END:VEVENT

END:VCALENDAR
