BEGIN:VCALENDAR
VERSION:2.0
PRODID:-//ChamberMaster//Event Calendar 2.0//EN
METHOD:PUBLISH
X-PUBLISHED-TTL:P3D
REFRESH-INTERVAL:P3D
CALSCALE:GREGORIAN
BEGIN:VEVENT
DTSTART:20231025T220000Z
DTEND:20231026T010000Z
X-MICROSOFT-CDO-ALLDAYEVENT:FALSE
SUMMARY:Boos & Brews with the Crafty Coop
DESCRIPTION:It's Halloween and we are teaming up with Forgottonia for a spooky good time at Boos & Brews   \n\nWe are bringing our paint\, brushes and themed pottery to the Beer Garden for a night of creativity and fun!\n\nThis is an event you won't want to miss\, purchase your tickets to save your seat  \n\nTickets cover a pour of a Brew of your choice and your painting fee\, pottery is paid for the night of the event. Pottery will range in price from $20-$40+. Tickets to save your seat are non-refundable if you need to cancel. Tickets are $15 per person/seat. No physical tickets will be printed\, retain your email receipt as proof of purchase.\n\nBring a friend and your creativity as we team up to make masterpieces and memories at Forgottonia   \n\nPottery will be fired and ready for pickup in 7-10 days from when you paint. Call or message the studio with questions\, 309-331-0965
X-ALT-DESC;FMTTYPE=text/html:<div class="kvgmc6g5 cxmmr5t8 oygrvhab hcukyx3x c1et5uql" style="overflow-wrap: break-word\; margin: 0px\; font-family: &quot\;Segoe UI Historic&quot\;\, &quot\;Segoe UI&quot\;\, Helvetica\, Arial\, sans-serif\; color: rgb(5\, 5\, 5)\; font-size: 15px\; background-color: rgb(255\, 255\, 255)\;">It&#39\;s Halloween and we are teaming up with Forgottonia for a spooky good time at Boos &amp\; Brews &#127875\;&#127866\;<br />\nWe are bringing our paint\, brushes and themed pottery to the Beer Garden for a night of creativity and fun!<br />\nThis is an event you won&#39\;t want to miss\, purchase your tickets to save your seat &#127903\;<br />\nTickets cover a pour of a Brew of your choice and your painting fee\, pottery is paid for the night of the event. Pottery will range in price from $20-$40+. Tickets to save your seat are non-refundable if you need to cancel. Tickets are $15 per person/seat. No physical tickets will be printed\, retain your email receipt as proof of purchase.<br />\nBring a friend and your creativity as we team up to make masterpieces and memories at Forgottonia &#127912\;&#128396\;<br />\nPottery will be fired and ready for pickup in 7-10 days from when you paint. Call or message the studio with questions\, 309-331-0965</div>\n
LOCATION:Forgottonia Brewing - 324 N. Lafayette St.\, Macomb
UID:e.2125.14065
SEQUENCE:3
DTSTAMP:20260422T122726Z
URL:https://business.macombareachamber.com/events/details/boos-brews-with-the-crafty-coop-14065
END:VEVENT

END:VCALENDAR
