BEGIN:VCALENDAR
VERSION:2.0
PRODID:-//ChamberMaster//Event Calendar 2.0//EN
METHOD:PUBLISH
X-PUBLISHED-TTL:P3D
REFRESH-INTERVAL:P3D
CALSCALE:GREGORIAN
BEGIN:VEVENT
DTSTART;VALUE=DATE:20230605
DTEND;VALUE=DATE:20230701
TRANSP:TRANSPARENT
X-MICROSOFT-CDO-ALLDAYEVENT:TRUE
SUMMARY:Bomber Summer Swim Camp
DESCRIPTION:Please join for the Bomber Summer Swim Camp being held June 5th - 30th.
X-ALT-DESC;FMTTYPE=text/html:Please join for the Bomber Summer Swim Camp being held June 5th - 30th.
LOCATION:Macomb High School - Fellheimer Pool
UID:e.2125.13481
SEQUENCE:3
DTSTAMP:20260423T192256Z
URL:https://business.macombareachamber.com/events/details/bomber-summer-swim-camp-13481
END:VEVENT

END:VCALENDAR
