BEGIN:VCALENDAR
VERSION:2.0
PRODID:-//ChamberMaster//Event Calendar 2.0//EN
METHOD:PUBLISH
X-PUBLISHED-TTL:P3D
REFRESH-INTERVAL:P3D
CALSCALE:GREGORIAN
BEGIN:VEVENT
DTSTART:20220917T150000Z
DTEND:20220917T200000Z
X-MICROSOFT-CDO-ALLDAYEVENT:FALSE
SUMMARY:Bold Brew House Parking Lot Party
DESCRIPTION:4th annual Vender Show
X-ALT-DESC;FMTTYPE=text/html:<span style="color: rgb(75\, 79\, 86)\; font-family: Helvetica\, Arial\, sans-serif\; font-size: 14px\;">4th annual Vender Show</span>
LOCATION:Bold Brew House 314 N Lafayette St\, Macomb\, IL 61455
UID:e.2125.9930
SEQUENCE:3
DTSTAMP:20260423T085446Z
URL:https://business.macombareachamber.com/events/details/bold-brew-house-parking-lot-party-9930
END:VEVENT

END:VCALENDAR
