BEGIN:VCALENDAR
VERSION:2.0
PRODID:-//ChamberMaster//Event Calendar 2.0//EN
METHOD:PUBLISH
X-PUBLISHED-TTL:P3D
REFRESH-INTERVAL:P3D
CALSCALE:GREGORIAN
BEGIN:VEVENT
DTSTART:20230730T210000Z
DTEND:20230730T230000Z
X-MICROSOFT-CDO-ALLDAYEVENT:FALSE
SUMMARY:Birthday Party to Honor Rev. C. T. Vivian
DESCRIPTION:The Shared Community Action Group and C. T. Vivian Project invite the community to celebrate Rev. Dr. C. T. Vivian's 99th birthday at the site of his Macomb home in the 700 block of East Adams on Sunday\, July 30\, at 4:00 pm. Cake and ice cream will be served.
X-ALT-DESC;FMTTYPE=text/html:<span style="color: rgb(34\, 34\, 34)\; font-family: Calibri\, sans-serif\; font-size: 16px\;">The Shared Community Action Group and C. T. Vivian Project invite the community to celebrate Rev. Dr. C. T. Vivian&rsquo\;s 99</span><sup style="color: rgb(34\, 34\, 34)\; font-family: Calibri\, sans-serif\;">th</sup><span style="color: rgb(34\, 34\, 34)\; font-family: Calibri\, sans-serif\; font-size: 16px\;">&nbsp\;birthday at the site of his Macomb home in the 700 block of East Adams on Sunday\, July 30\, at 4:00 pm. Cake and ice cream will be served.</span>
LOCATION:700 block of E. Adams St. Macomb\, IL 61455
UID:e.2125.13655
SEQUENCE:3
DTSTAMP:20260423T180724Z
URL:https://business.macombareachamber.com/events/details/birthday-party-to-honor-rev-c-t-vivian-13655
END:VEVENT

END:VCALENDAR
