BEGIN:VCALENDAR
VERSION:2.0
PRODID:-//ChamberMaster//Event Calendar 2.0//EN
METHOD:PUBLISH
X-PUBLISHED-TTL:P3D
REFRESH-INTERVAL:P3D
CALSCALE:GREGORIAN
BEGIN:VEVENT
DTSTART:20240726T120000Z
DTEND:20240726T170000Z
X-MICROSOFT-CDO-ALLDAYEVENT:FALSE
SUMMARY:Bio Blitz
DESCRIPTION:7:30-9:30 AM - Bird Walk\n\n10-11 AM: Insect Sweeping for Kids\n\n11-11:30 AM: Prairie Burns for Kids\n\nNoon: Tree Walk\n\n1 PM: Plant Walk\n\n2-3 PM: Insect Walks\n\n4 PM: Prairie Management Walk\n\n5 PM: Nature Photography & iNaturalist Talk\n\n4-6 PM: Food Truck on site (Cash and Venmo only)
X-ALT-DESC;FMTTYPE=text/html:7:30-9:30 AM - Bird Walk<br />\n10-11 AM: Insect Sweeping for Kids<br />\n11-11:30 AM: Prairie Burns for Kids<br />\nNoon: Tree Walk<br />\n1 PM: Plant Walk<br />\n2-3 PM: Insect Walks<br />\n4 PM: Prairie Management Walk<br />\n5 PM: Nature Photography &amp\; iNaturalist Talk<br />\n4-6 PM: Food Truck on site (Cash and Venmo only)
LOCATION:Wigwam Hollow Bird Sanctuary 1900 Wigwam Hollow Road Macomb\, IL
UID:e.2125.15442
SEQUENCE:3
DTSTAMP:20260423T012428Z
URL:https://business.macombareachamber.com/events/details/bio-blitz-15442
END:VEVENT

END:VCALENDAR
