BEGIN:VCALENDAR
VERSION:2.0
PRODID:-//ChamberMaster//Event Calendar 2.0//EN
METHOD:PUBLISH
X-PUBLISHED-TTL:P3D
REFRESH-INTERVAL:P3D
CALSCALE:GREGORIAN
BEGIN:VEVENT
DTSTART:20240915T173000Z
DTEND:20240915T190000Z
X-MICROSOFT-CDO-ALLDAYEVENT:FALSE
SUMMARY:Bike Safety Day at Discovery Depot
DESCRIPTION:FREE activity book and Bike Helmet for every child admission!
X-ALT-DESC;FMTTYPE=text/html:FREE activity book and Bike Helmet for every child admission!
LOCATION:Discovery Depot 128 S Chambers Street Galesburg\, IL 61401
UID:e.2125.15693
SEQUENCE:3
DTSTAMP:20260422T075811Z
URL:https://business.macombareachamber.com/events/details/bike-safety-day-at-discovery-depot-15693
END:VEVENT

END:VCALENDAR
