BEGIN:VCALENDAR
VERSION:2.0
PRODID:-//ChamberMaster//Event Calendar 2.0//EN
METHOD:PUBLISH
X-PUBLISHED-TTL:P3D
REFRESH-INTERVAL:P3D
CALSCALE:GREGORIAN
BEGIN:VEVENT
DTSTART;VALUE=DATE:20230510
DTEND;VALUE=DATE:20230514
TRANSP:TRANSPARENT
X-MICROSOFT-CDO-ALLDAYEVENT:TRUE
SUMMARY:Big Brothers Big Sisters 2023 Plant Sale
DESCRIPTION:Spring is in the air and the BBBS Plant Sale has all your flower needs! All proceeds support youth mentoring in McDonough and Warren County through Big Brothers Big Sisters.\n\nPre-Order is open now through April 24th!\n\nOrder your flowers online or download the paper form from the website and have them delivered right to your door! visit https://plantsale.org to order today!\n\nRetail:\n\nWednesday\, May 10: 1 p.m. -7pm\n\nThursday\, May 11: 8am-7pm\n\nFriday\, May 12: 8am-7pm\n\nSaturday\, May 13: 8am-6pm (while supplies last)
X-ALT-DESC;FMTTYPE=text/html:Spring is in the air and the BBBS Plant Sale has all your flower needs! All proceeds support youth mentoring in McDonough and Warren County through Big Brothers Big Sisters.<br />\nPre-Order is open now through April 24th!<br />\nOrder your flowers online or download the paper form from the website and have them delivered right to your door! visit https://plantsale.org to order today!<br />\nRetail:<br />\nWednesday\, May 10: 1 p.m. -7pm<br />\nThursday\, May 11: 8am-7pm<br />\nFriday\, May 12: 8am-7pm<br />\nSaturday\, May 13: 8am-6pm (while supplies last)&nbsp\;
LOCATION:Fortress Bank - 500 East Jackson Street\, Macomb.
UID:e.2125.12997
SEQUENCE:3
DTSTAMP:20260423T233409Z
URL:https://business.macombareachamber.com/events/details/big-brothers-big-sisters-2023-plant-sale-12997
END:VEVENT

END:VCALENDAR
