BEGIN:VCALENDAR
VERSION:2.0
PRODID:-//ChamberMaster//Event Calendar 2.0//EN
METHOD:PUBLISH
X-PUBLISHED-TTL:P3D
REFRESH-INTERVAL:P3D
CALSCALE:GREGORIAN
BEGIN:VEVENT
DTSTART:20231010T213000Z
DTEND:20231010T230000Z
X-MICROSOFT-CDO-ALLDAYEVENT:FALSE
SUMMARY:Biennial Art & Design Faculty Exhibition
DESCRIPTION:Biennial Art and Design Faculty Exhibition Reception: Tuesday\, October 10\, 4:30-6:00 pm On view: October 3   October 27\, 2023 University Art Gallery Western Illinois University Macomb\, Illinois The Western Illinois University Department of Art and Design will have their Biennial Faculty Exhibition on display October 3 through October 27 at the Western Illinois University Art Gallery. A reception for the artists will be held Tuesday\, October 10 from 4:30-6:00 p.m. Exhibiting Artists: Jan Clough\, Susan Czechowski \, Tyler Hennings\, Bill Howard \, Jenny Knavel\, Damon McArthur\, Kat Myers\, Duke Oursler\, Nancy Shahani \, Ian Shelly\, Tim Waldrop Admission is free and open to the public.
X-ALT-DESC;FMTTYPE=text/html:Biennial Art and Design Faculty Exhibition Reception: Tuesday\, October 10\, 4:30-6:00 pm On view: October 3 &ndash\; October 27\, 2023 University Art Gallery Western Illinois University Macomb\, Illinois The Western Illinois University Department of Art and Design will have their Biennial Faculty Exhibition on display October 3 through October 27 at the Western Illinois University Art Gallery. A reception for the artists will be held Tuesday\, October 10 from 4:30-6:00 p.m. Exhibiting Artists: Jan Clough\, Susan Czechowski \, Tyler Hennings\, Bill Howard \, Jenny Knavel\, Damon McArthur\, Kat Myers\, Duke Oursler\, Nancy Shahani \, Ian Shelly\, Tim Waldrop Admission is free and open to the public.
LOCATION:Western Illinois University Art Gallery
UID:e.2125.14039
SEQUENCE:3
DTSTAMP:20260422T122434Z
URL:https://business.macombareachamber.com/events/details/biennial-art-design-faculty-exhibition-14039
END:VEVENT

END:VCALENDAR
