BEGIN:VCALENDAR
VERSION:2.0
PRODID:-//ChamberMaster//Event Calendar 2.0//EN
METHOD:PUBLISH
X-PUBLISHED-TTL:P3D
REFRESH-INTERVAL:P3D
CALSCALE:GREGORIAN
BEGIN:VEVENT
DTSTART:20231016T200000Z
DTEND:20231016T210000Z
X-MICROSOFT-CDO-ALLDAYEVENT:FALSE
SUMMARY:Bereavement Support Group - New Horizons
DESCRIPTION:This open discussion support group is for adults who have experienced the loss of a family member or significant other. For more information\, call the MDH Hospice at (309) 836-1543.
X-ALT-DESC;FMTTYPE=text/html:<span style="font-family:arial\,sans-serif"><span style="font-size:10.0pt">This open discussion support group is for adults who have experienced the loss of a family member or significant other. For more information\, call the MDH Hospice at (309) 836-1543.</span></span>
LOCATION:McDonough District Hospital\, Private Dining Room\, lower level\; Macomb
UID:e.2125.1953
SEQUENCE:3
DTSTAMP:20260422T140106Z
URL:https://business.macombareachamber.com/events/details/bereavement-support-group-new-horizons-10-16-2023-1953
END:VEVENT

END:VCALENDAR
