BEGIN:VCALENDAR
VERSION:2.0
PRODID:-//ChamberMaster//Event Calendar 2.0//EN
METHOD:PUBLISH
X-PUBLISHED-TTL:P3D
REFRESH-INTERVAL:P3D
CALSCALE:GREGORIAN
BEGIN:VEVENT
DTSTART:20230507T000000Z
DTEND:20230507T010000Z
X-MICROSOFT-CDO-ALLDAYEVENT:FALSE
SUMMARY:Bells in Motion Concert
DESCRIPTION:Bells in Motion is a handbell group based in Springfield. Come and listen to toe-tapping music such as Good Vibrations\, Being the Beguine\, Banana Boat Song\, Classical Gas\, Anything Goes\, and It Don't Mean a Thing - a piece especially commissioned for Bells in Motion.
X-ALT-DESC;FMTTYPE=text/html:Bells in Motion is a handbell group based in Springfield. Come and listen to toe-tapping music such as Good Vibrations\, Being the Beguine\, Banana Boat Song\, Classical Gas\, Anything Goes\, and It Don&#39\;t Mean a Thing - a piece especially commissioned for Bells in Motion.&nbsp\;
LOCATION:First Presbyterian Church - 400 E. Carroll Street\, Macomb
UID:e.2125.13409
SEQUENCE:3
DTSTAMP:20260423T205437Z
URL:https://business.macombareachamber.com/events/details/bells-in-motion-concert-13409
END:VEVENT

END:VCALENDAR
